Workbook

Sheet Contents
C2: Factbook | H1 2026
C3: Unaudited
C5: Section
C7: 1 | D7: Disclaimer
C8: 2 | D8: P&L
C9: 3 | D9: Balance sheet and cash flow
C10: 4 | D10: Segments

Sheet Disclaimer
C2: 1. Disclaimer
C3: ← Contents
C6: This publication has been prepared by InstallatørGruppen A/S for information purposes only. It is not an offer or solicitation of any offers to purchase or sell any securities, currency or financial instruments. Whilst reasonable care has been taken to ensure that the content of this publication is not untrue or misleading, no representation is made as to its accuracy or completeness, and no liability is accepted for any loss arising from reliance on it.

Sheet P&L
C2: 2. P&L
C3: ← Contents
H4: Quarterly figures | Q4: Half year | V4: Yearly
C5: DKK’000 | D5: Q1-24 | E5: Q2-24 | F5: Q3-24 | G5: Q4-24 | H5: Q1-25 | I5: Q2-25 | J5: Q3-25 | K5: Q4-25 | L5: Q1-26 | M5: Q2-26 | O5: H1-24 | P5: H2-24 | Q5: H1-25 | R5: H2-25 | S5: H1-26 | U5: FY-24 | V5: FY-25
C7: Revenue and growth
C8: Revenue | D8: 513593.7 | E8: 578179.5 | F8: 588208.4 | G8: 777837.4 | H8: 797829 | I8: 918234 | J8: 865044 | K8: 1124360 | L8: 1072376 | M8: 1150058 | O8: 1091773.2 | P8: 1366045.8 | Q8: 1716063 | R8: 1989404 | S8: 2222434 | U8: 2457819 | V8: 3705467
C9: Organic growth, % | H9: 0.213 | I9: 0.143 | J9: -0.0253 | K9: 0.0082 | L9: 0.05 | M9: -0.007 | Q9: 0.182 | R9: -0.0075 | S9: 0.022 | V9: 0.07
C10: Total growth, % | H10: =IFERROR(H8/D8-1,"") -> 0.55342443 | I10: =IFERROR(I8/E8-1,"") -> 0.58814693 | J10: =IFERROR(J8/F8-1,"") -> 0.47064204 | K10: =IFERROR(K8/G8-1,"") -> 0.44549491 | L10: =IFERROR(L8/H8-1,"") -> 0.3441176 | M10: =IFERROR(M8/I8-1,"") -> 0.25246724 | Q10: =IFERROR(Q8/O8-1,"") -> 0.57181272 | R10: =IFERROR(R8/P8-1,"") -> 0.45632306 | S10: =IFERROR(S8/Q8-1,"") -> 0.29507716 | V10: =IFERROR(V8/U8-1,"") -> 0.50762404
C11: Organic growth, % (ownership period1) | H11: 0.176 | I11: 0.11 | J11: 0.026 | K11: -0.04 | L11: 0.041 | M11: 0.015 | Q11: 0.144 | R11: -0.006 | S11: 0.0276 | V11: 0.062
C13: EBITDA
C14: Adj. EBITDA | H14: 67983 | I14: 115892 | J14: 102060 | K14: 142810 | L14: 114042 | M14: 139848 | Q14: 183875 | R14: 244870 | S14: 253890 | V14: 428745
C15: Special items | H15: 7467 | I15: 9156 | J15: 3439 | K15: 22932 | L15: 31007 | M15: 24977 | Q15: 16623 | R15: 26371 | S15: 55984 | V15: 42994
C16: EBITDA | H16: 60516 | I16: 106736 | J16: 98621 | K16: 119878 | L16: 83035 | M16: 114871 | Q16: 167252 | R16: 218499 | S16: 197906 | V16: 385751
C17: Adj. EBITDA margin | H17: =IFERROR(H14/H8,"") -> 0.085209989 | I17: =IFERROR(I14/I8,"") -> 0.12621184 | J17: =IFERROR(J14/J8,"") -> 0.11798244 | K17: =IFERROR(K14/K8,"") -> 0.12701448 | L17: =IFERROR(L14/L8,"") -> 0.10634516 | M17: =IFERROR(M14/M8,"") -> 0.12160082 | Q17: =IFERROR(Q14/Q8,"") -> 0.10714933 | R17: =IFERROR(R14/R8,"") -> 0.12308712 | S17: =IFERROR(S14/S8,"") -> 0.11423961 | V17: =IFERROR(V14/V8,"") -> 0.11570606
C18: EBITDA margin | H18: =IFERROR(H16/H8,"") -> 0.07585084 | I18: =IFERROR(I16/I8,"") -> 0.11624052 | J18: =IFERROR(J16/J8,"") -> 0.11400692 | K18: =IFERROR(K16/K8,"") -> 0.10661888 | L18: =IFERROR(L16/L8,"") -> 0.077430864 | M18: =IFERROR(M16/M8,"") -> 0.099882789 | Q18: =IFERROR(Q16/Q8,"") -> 0.097462622 | R18: =IFERROR(R16/R8,"") -> 0.10983139 | S18: =IFERROR(S16/S8,"") -> 0.089049214 | V18: =IFERROR(V16/V8,"") -> 0.10410321
C20: EBITA
C21: Adj. EBITA | H21: 52314 | I21: 101282 | J21: 86615 | K21: 117551 | L21: 93438 | M21: 113376 | Q21: 153596 | R21: 204166 | S21: 206814 | V21: 357762
C22: EBITA | H22: 44847 | I22: 92126 | J22: 83176 | K22: 94619 | L22: 62431 | M22: 88399 | Q22: 136973 | R22: 177795 | S22: 150830 | V22: 314768
C23: Adj. EBITA margin | H23: =IFERROR(H21/H8,"") -> 0.065570442 | I23: =IFERROR(I21/I8,"") -> 0.11030086 | J23: =IFERROR(J21/J8,"") -> 0.10012785 | K23: =IFERROR(K21/K8,"") -> 0.10454925 | L23: =IFERROR(L21/L8,"") -> 0.087131752 | M23: =IFERROR(M21/M8,"") -> 0.098582854 | Q23: =IFERROR(Q21/Q8,"") -> 0.089504872 | R23: =IFERROR(R21/R8,"") -> 0.10262672 | S23: =IFERROR(S21/S8,"") -> 0.093057432 | V23: =IFERROR(V21/V8,"") -> 0.096549774
C24: EBITA margin | H24: =IFERROR(H22/H8,"") -> 0.056211293 | I24: =IFERROR(I22/I8,"") -> 0.10032955 | J24: =IFERROR(J22/J8,"") -> 0.096152334 | K24: =IFERROR(K22/K8,"") -> 0.084153652 | L24: =IFERROR(L22/L8,"") -> 0.058217454 | M24: =IFERROR(M22/M8,"") -> 0.076864819 | Q24: =IFERROR(Q22/Q8,"") -> 0.079818165 | R24: =IFERROR(R22/R8,"") -> 0.089370987 | S24: =IFERROR(S22/S8,"") -> 0.067867032 | V24: =IFERROR(V22/V8,"") -> 0.084946918
C26: Order book
C27: Order book, end of period (DKKbn) | D27: 2.1 | E27: 2.2 | F27: 2.4 | G27: 2.5 | H27: 2.4 | I27: 2.5 | J27: 2.313 | K27: 3.6 | L27: 4 | M27: 4.3 | O27: 2.2 | P27: 2.5 | Q27: 2.5 | R27: 3.6 | S27: 4.3 | U27: 2.5 | V27: 3.6
C28: Order book growth, % | H28: =IFERROR(H27/D27-1,"") -> 0.14285714 | I28: =IFERROR(I27/E27-1,"") -> 0.13636364 | J28: =IFERROR(J27/F27-1,"") -> -0.03625 | K28: =IFERROR(K27/G27-1,"") -> 0.44 | L28: =IFERROR(L27/H27-1,"") -> 0.66666667 | M28: =IFERROR(M27/I27-1,"") -> 0.72 | Q28: =IFERROR(Q27/O27-1,"") -> 0.13636364 | R28: =IFERROR(R27/P27-1,"") -> 0.44 | S28: =IFERROR(S27/Q27-1,"") -> 0.72 | V28: =IFERROR(V27/U27-1,"") -> 0.44
C30: Acquisitions
C31: Acquired companies2 | H31: =Segments!H41 -> 2 | I31: =Segments!I41 -> 5 | J31: =Segments!J41 -> 1 | K31: =Segments!K41 -> 2 | L31: =Segments!L41 -> 1 | M31: =Segments!M41 -> 4 | Q31: =Segments!Q41 -> 7 | R31: =Segments!R41 -> 3 | S31: =Segments!S41 -> 5 | V31: =Segments!V41 -> 10
C33: Companies and employees (Stand-alone)
C34: Total number of companies, end of period | H34: 34 | I34: 39 | J34: 40 | K34: 42 | L34: 43 | M34: 47 | Q34: 39 | R34: 42 | S34: 47 | V34: 42
C35: Companies included in organic growth | H35: 32 | I35: 32 | J35: 32 | K35: 32 | L35: 42 | M35: 42 | Q35: 32 | R35: 32 | S35: 42 | V35: 32
C36: FTEs, end of period | H36: 1688 | I36: 1752 | J36: 1917.52 | K36: 2158 | L36: 2204 | M36: 2341 | Q36: 1752 | R36: 2158 | S36: 2341 | V36: 2158
C38: 1) Growth generated by companies that were part of the Group in the previous period.
C39: 2) Excluding add-ons

Sheet Balance sheet and cash flow
C2: 3. Balance sheet and cash flow
C3: ← Contents
D4: Quarterly figures | K4: Half year | O4: Yearly
C5: DKK’000 | D5: Q1-25 | E5: Q2-25 | F5: Q3-25 | G5: Q4-25 | H5: Q1-26 | I5: Q2-26 | K5: H1-25 | L5: H2-25 | M5: H1-26 | O5: 2025
C7: Balance sheet
C8: Net working capital (NWC) | D8: 280798 | E8: 406509 | F8: 459886 | G8: 424632 | H8: 397828 | I8: 486009 | K8: 406509 | L8: 424632 | M8: 486009 | O8: 424632
C9: Equity | D9: 1092254 | E9: 1191096 | F9: 1264455 | G9: 1276166 | H9: 1225348 | I9: 1232277 | K9: 1191096 | L9: 1276166 | M9: 1232277 | O9: 1276166
C10: Net debt (NIBD, incl. lease liabilities) | D10: 636341 | E10: 845952 | F10: 843932 | G10: 841964 | H10: 906979 | I10: 1089715 | K10: 845952 | L10: 841964 | M10: 1089715 | O10: 841964
C11: Capital employed | D11: =+SUM(D9:D10) -> 1728595 | E11: =+SUM(E9:E10) -> 2037048 | F11: =+SUM(F9:F10) -> 2108387 | G11: =+SUM(G9:G10) -> 2118130 | H11: =+SUM(H9:H10) -> 2132327 | I11: =+SUM(I9:I10) -> 2321992 | K11: =+SUM(K9:K10) -> 2037048 | L11: =+SUM(L9:L10) -> 2118130 | M11: =+SUM(M9:M10) -> 2321992 | O11: =+SUM(O9:O10) -> 2118130
C12: Number of shares, end of period (million) | D12: 104.194 | E12: 107.82 | F12: 108.55117 | G12: 110.67668 | H12: 112.339 | I12: 300.50376 | K12: 107.818 | L12: 110.677 | M12: 300.504 | O12: 110.67668
C13: Average number of shares, diluted (million) | D13: 103.93 | E13: 105.75595 | F13: 107.65736 | G13: 110.53393 | H13: 111.55 | I13: 175.3167 | K13: 104.84 | L13: 109.09565 | M13: 143.43 | O13: 106.97
C15: Cash flow
C16: Cash flow from operating activities | D16: 78800 | E16: 73234 | F16: 94549.319 | G16: 165204.68 | H16: 87274 | I16: 25013 | K16: 152034 | L16: 259754 | M16: 112287 | O16: 411788
C17: Net investments (capex) | D17: -644 | E17: -6098 | F17: -6334 | G17: -7172 | H17: -1487 | I17: 648 | K17: -6742 | L17: -13506 | M17: -839 | O17: -20248
C18: Free cash flow | D18: 28845 | E18: -207224 | F18: 136402.32 | G18: -32667.319 | H18: 10631 | I18: -96042 | K18: -178379 | L18: 103735 | M18: -85411 | O18: -74644
C19: Adjusted free cash flow | D19: 95515 | E19: 67136 | F19: 109254.13 | G19: 153624.87 | H19: 115435 | I19: 25661 | K19: 162651 | L19: 262879 | M19: 141096 | O19: 425530
C20: Cash conversion rate | D20: 1.302135 | E20: 0.68612277 | F20: 0.95871385 | G20: 1.3781068 | H20: 1.0510508 | I20: 0.2177486 | K20: 0.90901155 | L20: 1.1888109 | M20: 0.56737542 | O20: 1.0674969
C21: Adj. cash conversion rate | D21: 1.5783429 | E21: 0.62899116 | F21: 1.1078181 | G21: 1.2815101 | H21: 1.3901969 | I21: 0.22338972 | K21: 0.97249061 | L21: 1.2031131 | M21: 0.71294453 | O21: 1.1031209
C23: Key figures
C24: Combined Adj. EBITDA, LTM | D24: 391418.77 | E24: 418894.9 | F24: 425674.77 | G24: 484975 | H24: 518487.97 | I24: 532898.97 | K24: 418894.9 | L24: 484975 | M24: 532898.97 | O24: 484975
C25: Leverage (Net debt / Combined Adj. EBITDA LTM) | D25: =+D10/D24 -> 1.6257294 | E25: =+E10/E24 -> 2.0194851 | F25: =+F10/F24 -> 1.9825746 | G25: =+G10/G24 -> 1.7360977 | H25: =+H10/H24 -> 1.7492768 | I25: =+I10/I24 -> 2.044881 | K25: =+K10/K24 -> 2.0194851 | L25: =+L10/L24 -> 1.7360977 | M25: =+M10/M24 -> 2.044881 | O25: =+O10/O24 -> 1.7360977

Sheet Segments
C2: 4. Segments
C3: ← Contents
H4: Quarterly figures | Q4: Half year | V4: Yearly
C5: DKK’000 | D5: Q1-24 | E5: Q2-24 | F5: Q3-24 | G5: Q4-24 | H5: Q1-25 | I5: Q2-25 | J5: Q3-25 | K5: Q4-25 | L5: Q1-26 | M5: Q2-26 | O5: H1-24 | P5: H2-24 | Q5: H1-25 | R5: H2-25 | S5: H1-26 | U5: FY-24 | V5: FY-25
C7: Revenue
C8: Denmark | D8: 513593.7 | E8: 578179.5 | F8: 588208.4 | G8: 777837.4 | H8: 797829 | I8: 841530 | J8: 768039 | K8: 953584 | L8: 914338 | M8: 986130 | O8: 1091773.2 | P8: 1366045.8 | Q8: 1639359 | R8: 1721623 | S8: 1900468 | U8: 2457819 | V8: 3360982
C9: Switzerland | D9: 0 | E9: 0 | F9: 0 | G9: 0 | H9: 0 | I9: 76704 | J9: 97005 | K9: 170776 | L9: 158038 | M9: 163928 | O9: 0 | P9: 0 | Q9: 76704 | R9: 267781 | S9: 321966 | U9: 0 | V9: 344485
C10: Total | D10: =SUM(D8:D9) -> 513593.7 | E10: =SUM(E8:E9) -> 578179.5 | F10: =SUM(F8:F9) -> 588208.4 | G10: =SUM(G8:G9) -> 777837.4 | H10: =SUM(H8:H9) -> 797829 | I10: =SUM(I8:I9) -> 918234 | J10: =SUM(J8:J9) -> 865044 | K10: =SUM(K8:K9) -> 1124360 | ... M10: =SUM(M8:M9) -> 1150058 | O10: =SUM(O8:O9) -> 1091773.2 | P10: =SUM(P8:P9) -> 1366045.8 | Q10: =SUM(Q8:Q9) -> 1716063 | R10: =SUM(R8:R9) -> 1989404 | S10: =SUM(S8:S9) -> 2222434 | U10: =SUM(U8:U9) -> 2457819 | V10: =SUM(V8:V9) -> 3705467
C12: Total growth (%)
C13: Denmark | H13: =IFERROR(H8/D8-1,"") -> 0.55342443 | I13: =IFERROR(I8/E8-1,"") -> 0.45548225 | J13: =IFERROR(J8/F8-1,"") -> 0.305726 | K13: =IFERROR(K8/G8-1,"") -> 0.22594259 | L13: =IFERROR(L8/H8-1,"") -> 0.14603255 | M13: =IFERROR(M8/I8-1,"") -> 0.17182988 | Q13: =IFERROR(Q8/O8-1,"") -> 0.50155637 | R13: =IFERROR(R8/P8-1,"") -> 0.26029669 | S13: =IFERROR(S8/Q8-1,"") -> 0.15927506 | V13: =V8/U8-1 -> 0.36746522
C14: Switzerland | H14: =IFERROR(H9/D9-1,"") | I14: =IFERROR(I9/E9-1,"") | J14: =IFERROR(J9/F9-1,"") | K14: =IFERROR(K9/G9-1,"") | L14: =IFERROR(L9/H9-1,"") | M14: =IFERROR(M9/I9-1,"") -> 1.1371506 | Q14: =IFERROR(Q9/O9-1,"") | R14: =IFERROR(R9/P9-1,"") | S14: =IFERROR(S9/Q9-1,"") -> 3.1975125
C15: Total | H15: =IFERROR(H10/D10-1,"") -> 0.55342443 | I15: =IFERROR(I10/E10-1,"") -> 0.58814693 | J15: =IFERROR(J10/F10-1,"") -> 0.47064204 | K15: =IFERROR(K10/G10-1,"") -> 0.44549491 | L15: =IFERROR(L10/H10-1,"") -> 0.3441176 | M15: =IFERROR(M10/I10-1,"") -> 0.25246724 | Q15: =IFERROR(Q10/O10-1,"") -> 0.57181272 | R15: =IFERROR(R10/P10-1,"") -> 0.45632306 | S15: =IFERROR(S10/Q10-1,"") -> 0.29507716 | V15: =V10/U10-1 -> 0.50762404
C17: Reported EBITA
C18: Denmark | H18: 52504 | I18: 96758 | J18: 82504 | K18: 95311 | L18: 83390 | M18: 92919 | Q18: 149262 | R18: 177815 | S18: 176309 | V18: 327077
C19: Switzerland | H19: -7192 | I19: -2119 | J19: 4233 | K19: 16392 | L19: 8158 | M19: 10581 | Q19: -9311 | R19: 20625 | S19: 18739 | V19: 11314
C20: Group / corporate functions | H20: -465 | I20: -2513 | J20: -3560 | K20: -17085 | L20: -29117 | M20: -15101 | Q20: -2978 | R20: -20645 | S20: -44218 | V20: -23623
C21: Total | H21: =SUM(H18:H20) -> 44847 | I21: =SUM(I18:I20) -> 92126 | J21: =SUM(J18:J20) -> 83177 | K21: =SUM(K18:K20) -> 94618 | L21: =SUM(L18:L20) -> 62431 | M21: =SUM(M18:M20) -> 88399 | Q21: =SUM(Q18:Q20) -> 136973 | R21: =SUM(R18:R20) -> 177795 | S21: =SUM(S18:S20) -> 150830 | V21: =SUM(V18:V20) -> 314768
C23: Reported EBITA margin
C24: Denmark | H24: =IFERROR(H18/H8,"") -> 0.065808588 | I24: =IFERROR(I18/I8,"") -> 0.11497867 | J24: =IFERROR(J18/J8,"") -> 0.10742163 | K24: =IFERROR(K18/K8,"") -> 0.099950293 | L24: =IFERROR(L18/L8,"") -> 0.091202597 | M24: =IFERROR(M18/M8,"") -> 0.094225913 | Q24: =IFERROR(Q18/Q8,"") -> 0.091049001 | R24: =IFERROR(R18/R8,"") -> 0.10328336 | S24: =IFERROR(S18/S8,"") -> 0.092771359 | V24: =IFERROR(V18/V8,"") -> 0.097315904
C25: Switzerland | H25: =IFERROR(H19/H9,"") | I25: =IFERROR(I19/I9,"") -> -0.027625678 | J25: =IFERROR(J19/J9,"") -> 0.043636926 | K25: =IFERROR(K19/K9,"") -> 0.095985384 | L25: =IFERROR(L19/L9,"") -> 0.051620496 | M25: =IFERROR(M19/M9,"") -> 0.06454663 | Q25: =IFERROR(Q19/Q9,"") -> -0.12138872 | R25: =IFERROR(R19/R9,"") -> 0.077021895 | S25: =IFERROR(S19/S9,"") -> 0.058201798 | V25: =IFERROR(V19/V9,"") -> 0.03284323
C26: Total | H26: =IFERROR(H21/H10,"") -> 0.056211293 | I26: =IFERROR(I21/I10,"") -> 0.10032955 | J26: =IFERROR(J21/J10,"") -> 0.09615349 | K26: =IFERROR(K21/K10,"") -> 0.084152762 | L26: =IFERROR(L21/L10,"") -> 0.058217454 | M26: =IFERROR(M21/M10,"") -> 0.076864819 | Q26: =IFERROR(Q21/Q10,"") -> 0.079818165 | R26: =IFERROR(R21/R10,"") -> 0.089370987 | S26: =IFERROR(S21/S10,"") -> 0.067867032 | V26: =IFERROR(V21/V10,"") -> 0.084946918
C28: Order book
C29: Denmark | H29: 2.4 | I29: 2.5 | J29: 2.313 | K29: 2.78 | L29: 3.075 | M29: 3.3 | Q29: 2.5 | R29: 2.78 | S29: 3.3 | V29: 2.78
C30: Switzerland | H30: 0 | I30: 0 | J30: 0 | K30: 0.82 | L30: 0.925 | M30: 1 | Q30: 0 | R30: 0.82 | S30: 1 | V30: 0.82
C31: Total | H31: =SUM(H29:H30) -> 2.4 | I31: =SUM(I29:I30) -> 2.5 | J31: =SUM(J29:J30) -> 2.313 | K31: =SUM(K29:K30) -> 3.6 | L31: =SUM(L29:L30) -> 4 | M31: =SUM(M29:M30) -> 4.3 | Q31: =SUM(Q29:Q30) -> 2.5 | R31: =SUM(R29:R30) -> 3.6 | S31: =SUM(S29:S30) -> 4.3 | V31: =SUM(V29:V30) -> 3.6
C33: Number of companies
C34: Denmark | H34: 34 | I34: 37 | J34: 38 | K34: 39 | L34: 39 | M34: 42 | Q34: 37 | R34: 39 | S34: 42 | U34: 32 | V34: 39
C35: Switzerland | H35: 0 | I35: 2 | J35: 2 | K35: 3 | L35: 4 | M35: 5 | Q35: 2 | R35: 3 | S35: 5 | V35: 3
C36: Total | H36: =SUM(H34:H35) -> 34 | I36: =SUM(I34:I35) -> 39 | J36: =SUM(J34:J35) -> 40 | K36: =SUM(K34:K35) -> 42 | L36: =SUM(L34:L35) -> 43 | M36: =SUM(M34:M35) -> 47 | Q36: =SUM(Q34:Q35) -> 39 | R36: =SUM(R34:R35) -> 42 | S36: =SUM(S34:S35) -> 47 | U36: =SUM(U34:U35) -> 32 | V36: =SUM(V34:V35) -> 42
C38: Acquired companies in the period
C39: Denmark | H39: 2 | I39: 3 | J39: 1 | K39: 1 | L39: 0 | M39: 3 | Q39: 5 | R39: 2 | S39: 3 | V39: 7
C40: Switzerland | H40: 0 | I40: 2 | J40: 0 | K40: 1 | L40: 1 | M40: 1 | Q40: 2 | R40: 1 | S40: 2 | V40: 3
C41: Total | H41: =SUM(H39:H40) -> 2 | I41: =SUM(I39:I40) -> 5 | J41: =SUM(J39:J40) -> 1 | K41: =SUM(K39:K40) -> 2 | L41: =SUM(L39:L40) -> 1 | M41: =SUM(M39:M40) -> 4 | Q41: =SUM(Q39:Q40) -> 7 | R41: =SUM(R39:R40) -> 3 | S41: =SUM(S39:S40) -> 5 | V41: =SUM(V39:V40) -> 10
C43: Share of revenue
C44: Denmark | H44: =IFERROR(H8/H10,"") -> 1 | I44: =IFERROR(I8/I10,"") -> 0.91646574 | J44: =IFERROR(J8/J10,"") -> 0.8878612 | K44: =IFERROR(K8/K10,"") -> 0.8481127 | L44: =IFERROR(L8/L10,"") -> 0.85262818 | M44: =IFERROR(M8/M10,"") -> 0.8574611 | Q44: =IFERROR(Q8/Q10,"") -> 0.95530234 | R44: =IFERROR(R8/R10,"") -> 0.86539637 | S44: =IFERROR(S8/S10,"") -> 0.85512911 | V44: =IFERROR(V8/V10,"") -> 0.90703331
C45: Switzerland | H45: =IFERROR(H9/H10,"") -> 0 | I45: =IFERROR(I9/I10,"") -> 0.083534263 | J45: =IFERROR(J9/J10,"") -> 0.1121388 | K45: =IFERROR(K9/K10,"") -> 0.1518873 | L45: =IFERROR(L9/L10,"") -> 0.14737182 | M45: =IFERROR(M9/M10,"") -> 0.1425389 | Q45: =IFERROR(Q9/Q10,"") -> 0.04469766 | R45: =IFERROR(R9/R10,"") -> 0.13460363 | S45: =IFERROR(S9/S10,"") -> 0.14487089 | V45: =IFERROR(V9/V10,"") -> 0.092966689
C47: EBITDA per segment
C48: Denmark | H48: 68173 | I48: 111250 | J48: 97621 | K48: 120203 | L48: 103605 | M48: 118974 | Q48: 179423 | R48: 217824 | S48: 222579 | V48: 397247
C49: Switzerland | H49: -7192 | I49: -2001 | J49: 4560 | K49: 16760 | L49: 8547 | M49: 10998 | Q49: -9193 | R49: 21320 | S49: 19545 | V49: 12127
C50: Group / corporate functions | H50: -465 | I50: -2513 | J50: -3560 | K50: -17085 | L50: -29117 | M50: -15101 | Q50: -2978 | R50: -20645 | S50: -44218 | V50: -23623
...
